BEGIN:VCALENDAR
VERSION:2.0
PRODID:spatie/icalendar-generator
DESCRIPTION:Veranstaltungen von KG Humor 1878 Merzig e.V.
X-WR-CALDESC:Veranstaltungen von KG Humor 1878 Merzig e.V.
REFRESH-INTERVAL;VALUE=DURATION:PT1440M
X-PUBLISHED-TTL:PT1440M
BEGIN:VTIMEZONE
TZID:Europe/Berlin
BEGIN:STANDARD
DTSTART:20231029T030000Z
TZOFFSETFROM:+0200
TZOFFSETTO:+0100
END:STANDARD
BEGIN:DAYLIGHT
DTSTART:20240331T020000Z
TZOFFSETFROM:+0100
TZOFFSETTO:+0200
END:DAYLIGHT
END:VTIMEZONE
BEGIN:VTIMEZONE
TZID:UTC
BEGIN:STANDARD
DTSTART:20250727T214611Z
TZOFFSETFROM:+0000
TZOFFSETTO:+0000
END:STANDARD
END:VTIMEZONE
BEGIN:VEVENT
UID:21-10
DTSTAMP:20260423T214611Z
SUMMARY:3. Gala-Kappensitzung: Karneval der Vielfalt: inklusiv und bunt!
LOCATION:Stadthalle Merzig
ORGANIZER;CN=kiefer:MAILTO:digital@kg-humor.de
DTSTART;TZID=Europe/Berlin:20240204T141100
DTEND;TZID=Europe/Berlin:20240204T151100
X-ALT-DESC;FMTTYPE=TEXT/HTML:
CATEGORIES:Galakappensitzung
URL;VALUE=URI:https://kg-humor.de/mc-events/3-gala-kappensitzung-karneval-d
 er-vielfalt-inklusiv-und-bunt/
METHOD:PUBLISH
END:VEVENT
END:VCALENDAR